BEGIN:VCALENDAR
VERSION:2.0
PRODID:-//ChamberMaster//Event Calendar 2.0//EN
METHOD:PUBLISH
X-PUBLISHED-TTL:P3D
REFRESH-INTERVAL:P3D
CALSCALE:GREGORIAN
BEGIN:VEVENT
DTSTART:20250206T190000Z
DTEND:20250206T200000Z
X-MICROSOFT-CDO-ALLDAYEVENT:FALSE
SUMMARY:William King Hale - Killer of the Flower Moon - CAST Virtual Program
DESCRIPTION:To follow up with our Movie Matinee in December\, "Killers of the Flower Moon"\, we'll learn more about William King Hale and his role in the Osage Murders. When William King Hale arrived in what is now Osage County\, Oklahoma\, around 1902\, he was so poor he had to live in a tent. By the 1920s\, he was so rich and powerful that people lived in terror of getting on his bad side. He had become known as the "King of the Osage Hills." He would go on to be convicted as the ruthless mastermind behind the Osage Murders\, a shocking spate of killings that became the FBI's first major case. Over half a decade\, at least nine people would die in the murder spree Hale set into motion some shot\, some poisoned\, three killed in an explosion that leveled their home. Most were members of the Osage nation\, but others were white residents who either knew too much or simply got in the way. By some estimates\, the death toll was even higher\, anywhere from 24 to 60 or more. Many suspicious deaths simply went uninvestigated. Provided by The People Profiles/YouTube. Provided by the CAST Senior Center\, our Virtual Programs provide an endless variety of interesting subjects. Our Virtual Programs take us across the country\, experiencing and learning about places and people which we wouldn't otherwise have the opportunity to experience. Scheduled every Tuesday afternoon\, unless noted\, at 1pm at the CAST Senior Center\, our Virtual Programs are free and open to the public. There are no membership dues and everyone is welcome to attend. Programming is provided by CuriousityU.com and other online providers. Check out our virtual program schedule every month and join us! We look forward to seeing you!
X-ALT-DESC;FMTTYPE=text/html:To follow up with our Movie Matinee in December\, &ldquo\;Killers of the Flower Moon&rdquo\;\, we&rsquo\;ll learn more about William King Hale and his role in the Osage Murders. When William King Hale arrived in what is now Osage County\, Oklahoma\, around 1902\, he was so poor he had to live in a tent. By the 1920s\, he was so rich and powerful that people lived in terror of getting on his bad side. He had become known as the &ldquo\;King of the Osage Hills.&rdquo\; He would go on to be convicted as the ruthless mastermind behind the Osage Murders\, a shocking spate of killings that became the&nbsp\;FBI&#39\;s first major case. Over half a decade\, at least nine people would die in the murder spree Hale set into motion&mdash\;some shot\, some poisoned\, three killed in an explosion that leveled their home. Most were members of the Osage nation\, but others were white residents who either knew too much or simply got in the way. By some estimates\, the death toll was even higher\, anywhere from 24 to 60 or more. Many suspicious deaths simply went uninvestigated. Provided by The People Profiles/YouTube. Provided by the CAST Senior Center\, our Virtual Programs provide an endless variety of interesting subjects. Our Virtual Programs take us across the country\, experiencing and learning about places and people which we wouldn&rsquo\;t otherwise have the opportunity to experience. Scheduled every Tuesday afternoon\, unless noted\, at 1pm at the CAST Senior Center\, our Virtual Programs are free and open to the public. There are no membership dues and everyone is welcome to attend. Programming is provided by CuriousityU.com and other online providers. Check out our virtual program schedule every month and join us! We look forward to seeing you!
LOCATION:CAST Senior Center\, Room 112 600 N. German St. New Ulm\, MN 56073
UID:e.18.49595
SEQUENCE:3
DTSTAMP:20260423T214209Z
URL:https://business.newulm.com/events/details/william-king-hale-killer-of-the-flower-moon-cast-virtual-program-49595
END:VEVENT

END:VCALENDAR
