BEGIN:VCALENDAR
VERSION:2.0
PRODID:-//ChamberMaster//Event Calendar 2.0//EN
METHOD:PUBLISH
X-PUBLISHED-TTL:P3D
REFRESH-INTERVAL:P3D
CALSCALE:GREGORIAN
BEGIN:VEVENT
DTSTART:20260307T010000Z
DTEND:20260307T033000Z
X-MICROSOFT-CDO-ALLDAYEVENT:FALSE
SUMMARY:Travelled Ground @ The Grand Kabaret
DESCRIPTION:Offering a unique combination of the Americana sound from Folk\, Blues\, Jazz and Roots Rock\, Traveled Ground's music crosses the spectrum of the Roots Music scene. Hailing out of Waconia Minnesota\, this group has kept a busy schedule playing local\, regional and national stages for over 34 years. Led by multi- instrumentalist Clark Machtemes\, their brand of story driven songs\, sense of song craft and arsenal of instruments have led to national radio play\, commercial jingles and songwriter showcases across the country. Traveled Ground plays as a full band and at times as an acoustic duo and trio. Clark also performs solo to showcase Traveled Ground's original music on a different stage. Traveled Ground has released seven full length albums and are planning on their 7th released in the Summer of 2024. Their music is available on all major streaming sites and at live shows. They are a group that continues to evolve but yet remain grounded in American Roots Music.
X-ALT-DESC;FMTTYPE=text/html:Offering a unique combination of the Americana sound from Folk\, Blues\, Jazz and Roots Rock\, Traveled Ground&rsquo\;s music crosses the spectrum of the Roots Music scene. Hailing out of Waconia Minnesota\, this group has kept a busy schedule playing local\, regional and national stages for over 34 years. Led by multi- instrumentalist Clark Machtemes\, their brand of story driven songs\, sense of song craft and arsenal of instruments have led to national radio play\, commercial jingles and songwriter showcases across the country. Traveled Ground plays as a full band and at times as an acoustic duo and trio. Clark also performs solo to showcase Traveled Ground&rsquo\;s original music on a different stage. Traveled Ground has released seven full length albums and are planning on their 7th released in the Summer of 2024. Their music is available on all major streaming sites and at live shows. They are a group that continues to evolve but yet remain grounded in American Roots Music.
LOCATION:The Grand Kabaret 210 N Minnesota St.
UID:e.18.52098
SEQUENCE:3
DTSTAMP:20260421T091815Z
URL:https://business.newulm.com/events/details/travelled-ground-the-grand-kabaret-52098
END:VEVENT

END:VCALENDAR
