BEGIN:VCALENDAR
VERSION:2.0
PRODID:-//ChamberMaster//Event Calendar 2.0//EN
METHOD:PUBLISH
X-PUBLISHED-TTL:P3D
REFRESH-INTERVAL:P3D
CALSCALE:GREGORIAN
BEGIN:VEVENT
DTSTART:20211013T220000Z
DTEND:20211014T000000Z
X-MICROSOFT-CDO-ALLDAYEVENT:FALSE
SUMMARY:Strong Towns Presentation
DESCRIPTION:Strong Towns:  A Bottom Up Revolution to Rebuild American Prosperity by Charles Marohn\n\n\nCharles Marohn highlights some of the most powerful stories in his book\, Strong Towns: A Bottom Up Revolution to Rebuild American Prosperity\, and uses those insights to highlight a path to community prosperity that's as unique as your place. Using an innovative\, hands-on approach\, this presentation showcases why so many towns in North America are struggling financially despite decades of robust growth.\n\n \n\nThis presentation is part community conversation\, part lecture from an expert\, and the catalyst you need for your place to become financially stronger. This event will be followed by a book signing with the author.
X-ALT-DESC;FMTTYPE=text/html:<div style="text-align: center\;"><span style="color:#000080\;"><strong>Strong Towns:&nbsp\; A Bottom Up Revolution to Rebuild American Prosperity by Charles Marohn</strong></span></div>\n<br />\n<span style="color:#222222\;"><span style="font-family:arial\,sans-serif\;"><span style="font-size:9.0pt\;">Charles Marohn highlights some of the most powerful stories in his book\, </span></span></span><span style="color:#403F42\;"><span style="font-family:arial\,sans-serif\;"><span style="font-size:9.0pt\;"><a href="https://r20.rs6.net/tn.jsp?f=0011uWVGJ_wJojyhvUxyULHdVycoXt4c5DrLfaDojKC0_3DeMO7tV63R2e3B9xhjFJQzWTVHTa8FNrEmHO0i_dssKSadbCw0JwVQxfBJq6lUzHkoI2uoGl5v7DrRsSeb9QN8aRoVosDpnC0xsw9--giCg==&amp\;c=v-dyXk_5QaYc3_Jb-6PZleVoPBjU0HWiNin3XUDrP0B7l6-ObIkKuw==&amp\;ch=CvpZ6XgjKm-083-dUQTk8cmqu485DeHMNiMpQsAbeGeAV6ELIBs_Cw==" target="_blank"><strong><span style="color:#222222\;">Strong Towns: A Bottom Up Revolution to Rebuild American Prosperity</span></strong></a></span></span></span><span style="color:#222222\;"><span style="font-family:arial\,sans-serif\;"><span style="font-size:9.0pt\;">\, and uses those insights to highlight a path to community prosperity that&rsquo\;s as unique as your place. Using an innovative\, hands-on approach\, this presentation showcases why so many towns in North America are struggling financially despite decades of robust growth.</span></span></span><br />\n&nbsp\;<br />\n<span style="color:#222222\;"><span style="font-family:arial\,sans-serif\;"><span style="font-size:9.0pt\;">This presentation is part community conversation\, part lecture from an expert\, and the catalyst you need for your place to become financially stronger. This event will be followed by a book signing with the author. </span></span></span>
LOCATION:Turner Hall
UID:e.18.41188
SEQUENCE:3
DTSTAMP:20260421T023944Z
URL:https://business.newulm.com/events/details/strong-towns-presentation-41188
END:VEVENT

END:VCALENDAR
