BEGIN:VCALENDAR
VERSION:2.0
PRODID:-//ChamberMaster//Event Calendar 2.0//EN
METHOD:PUBLISH
X-PUBLISHED-TTL:P3D
REFRESH-INTERVAL:P3D
CALSCALE:GREGORIAN
BEGIN:VEVENT
DTSTART:20190615T160000Z
DTEND:20190615T210000Z
X-MICROSOFT-CDO-ALLDAYEVENT:FALSE
SUMMARY:Shop the Park Craft and Vendor Show
DESCRIPTION:Craft and Vendor Show at German Park! Hosted by the New Ulm Craft and Vendor Events Group (NUCVE). Watch for more details coming soon!\n\n\n\nStill signing up vendors! Click here to register and for more information:\n\nhttp://www.nucve.com/6-15-shop-the-park.html?fbclid=IwAR1h9XO1AeHucwEnL1rXZ9ZDv-Gler97NSVaCvX9Z7gMsKLEUo4zCQIOE2Q
X-ALT-DESC;FMTTYPE=text/html:Craft and Vendor Show at German Park! Hosted by the New Ulm Craft and Vendor Events Group (NUCVE). Watch for more details coming soon!<br />\n<br />\nStill signing up vendors! Click here to register and for more information:<br />\n<strong><a href="http://www.nucve.com/6-15-shop-the-park.html?fbclid=IwAR1h9XO1AeHucwEnL1rXZ9ZDv-Gler97NSVaCvX9Z7gMsKLEUo4zCQIOE2Q">http://www.nucve.com/6-15-shop-the-park.html?fbclid=IwAR1h9XO1AeHucwEnL1rXZ9ZDv-Gler97NSVaCvX9Z7gMsKLEUo4zCQIOE2Q</a></strong><br />\n<br />\n&nbsp\;
LOCATION:German Park 200 N. German St New Ulm\, MN 56073
UID:e.18.37425
SEQUENCE:3
DTSTAMP:20260422T180737Z
URL:https://business.newulm.com/events/details/shop-the-park-craft-and-vendor-show-37425
END:VEVENT

END:VCALENDAR
