BEGIN:VCALENDAR
VERSION:2.0
PRODID:-//ChamberMaster//Event Calendar 2.0//EN
METHOD:PUBLISH
X-PUBLISHED-TTL:P3D
REFRESH-INTERVAL:P3D
CALSCALE:GREGORIAN
BEGIN:VEVENT
DTSTART:20231212T233000Z
DTEND:20231213T013000Z
X-MICROSOFT-CDO-ALLDAYEVENT:FALSE
SUMMARY:Protect Your PC- Defend Your PC Against Viruses\, Hackers & Malicious Software Online Zoom Class
DESCRIPTION:Viruses\, malware\, ransomware\, phishing\, smishing\, vishing\, social engineering...The list of digital threats with peculiar names expands daily and hardly a moment goes by without some form of attack appearing in the news. We live in interesting times\, where data is worth more than oil or gold and your personal information is greatly sought after by cybercriminals\, scammers\, and hackers. How prepared are you for this new age of digital vandalism and theft? Is your Windows 11 computer secure against the continual onslaught of the modern online World? I'll help you secure your computer\, network\, and devices against such threats and with easy-to-follow tutorials\, help arm you against potential threats and attacks. For parents and Guardians\, I also cover looking out for your children online\, together with guides on how to best protect them and advice from industry experts. You'll soon be security Savvy and prepared for whatever digital threat looms on the horizon.
X-ALT-DESC;FMTTYPE=text/html:Viruses\, malware\, ransomware\, phishing\, smishing\, vishing\, social engineering...The list of digital threats with peculiar names expands daily and hardly a moment goes by without some form of attack appearing in the news. We live in interesting times\, where data is worth more than oil or gold and your personal information is greatly sought after by cybercriminals\, scammers\, and hackers. How prepared are you for this new age of digital vandalism and theft? Is your Windows 11 computer secure against the continual onslaught of the modern online World? I&#39\;ll help you secure your computer\, network\, and devices against such threats and with easy-to-follow tutorials\, help arm you against potential threats and attacks. For parents and Guardians\, I also cover looking out for your children online\, together with guides on how to best protect them and advice from industry experts. You&#39\;ll soon be security Savvy and prepared for whatever digital threat looms on the horizon.
LOCATION:Online Zoom Class
UID:e.18.46345
SEQUENCE:3
DTSTAMP:20260425T192004Z
URL:https://business.newulm.com/events/details/protect-your-pc-defend-your-pc-against-viruses-hackers-malicious-software-online-zoom-class-46345
END:VEVENT

END:VCALENDAR
