BEGIN:VCALENDAR
VERSION:2.0
PRODID:-//ChamberMaster//Event Calendar 2.0//EN
METHOD:PUBLISH
X-PUBLISHED-TTL:P3D
REFRESH-INTERVAL:P3D
CALSCALE:GREGORIAN
BEGIN:VEVENT
DTSTART:20231125T000000Z
DTEND:20231125T000000Z
X-MICROSOFT-CDO-ALLDAYEVENT:FALSE
SUMMARY:Parade of Lights
DESCRIPTION:New Ulm's 35th Annual Parade of Lights\n\n\n\nThe holiday season will soon be upon us\, and with that comes the 35th Annual New Ulm Parade of Lights!  The parade\, which is organized by the New Ulm Area Chamber of Commerce\, is always held the Friday after Thanksgiving.  This year it will take place on Friday\, November 24th\, at 6:00 pm.  It will run through the downtown area along Minnesota Street\, from 4th South to 4th North.  Note: there will be no parking on Minnesota Street from 1st South to 4th North.  This is for safety reasons as well as for guest experience.  The historic downtown will be decked out for the holidays. Real Christmas trees\, wreaths\, and lights will line the street downtown!\n\n \n\nThe parade\, which celebrates the holiday season and welcomes Santa to the community\, will feature about 60 units\, all lit with lights proclaiming their organization\, business\, or association.  Christmas music and festive lights\, with the grand finale of Santa Claus riding atop the historic New Ulm fire truck\, will leave everyone feeling merry and bright! Come downtown early to shop and eat at the many fantastic New Ulm establishments.  Immediately following the parade\, head to City Hall for the Official Ceremonial Tree Lighting\, which will be led by Mayor Kathleen Backer.\n\n \n\nFor more information about the 35th Annual New Ulm Parade of Lights\, contact the New Ulm Area Chamber of Commerce\, chamber@newulm.com or 507-233-4300\, or online at www.newulm.com.  The New Ulm Area Chamber of Commerce has a membership of 340+ businesses including New Ulm's largest employers\, retailers\, professional services\, and interested individuals. The Chamber's mission is encouraging economic growth in our community by supporting our members through business development\, networking\, education\, advocacy\, and access to resources.\n\n\n\n\n\nRegistration Form Here: https://www.newulm.com/wp-content/uploads/2023/10/2023-Letter-to-Participants.pdf
X-ALT-DESC;FMTTYPE=text/html:New Ulm&rsquo\;s 35th Annual Parade of Lights<br />\n<br />\nThe holiday season will soon be upon us\, and with that comes the <strong>35<sup>th</sup> Annual New Ulm Parade of Lights</strong>!&nbsp\; The parade\, which is organized by the New Ulm Area Chamber of Commerce\, is always held the Friday after Thanksgiving.&nbsp\; This year it will take place on <strong>Friday\, November 24<sup>th</sup>\, at 6:00 pm</strong>.&nbsp\; It will run through the downtown area along Minnesota Street\, from 4<sup>th</sup> South to 4<sup>th</sup> North.&nbsp\; <strong><u>Note: there will be no parking on Minnesota Street from 1st South to 4th North.</u></strong>&nbsp\; This is for safety reasons as well as for guest experience.&nbsp\; The historic downtown will be decked out for the holidays. Real Christmas trees\, wreaths\, and lights will line the street downtown!<br />\n&nbsp\;<br />\nThe parade\, which celebrates the holiday season and welcomes Santa to the community\, will feature about 60 units\, all lit with lights proclaiming their organization\, business\, or association.&nbsp\; Christmas music and festive lights\, with the grand finale of Santa Claus riding atop the historic New Ulm fire truck\, will leave everyone feeling merry and bright! Come downtown early to shop and eat at the many fantastic New Ulm establishments.&nbsp\; Immediately following the parade\, head to City Hall for the Official Ceremonial Tree Lighting\, which will be led by Mayor Kathleen Backer.<br />\n&nbsp\;<br />\nFor more information about the 35<sup>th</sup> Annual New Ulm Parade of Lights\, contact the New Ulm Area Chamber of Commerce\, chamber@newulm.com or 507-233-4300\, or online at www.newulm.com.&nbsp\; The New Ulm Area Chamber of Commerce has a membership of 340+ businesses including New Ulm&rsquo\;s largest employers\, retailers\, professional services\, and interested individuals. The Chamber&rsquo\;s mission is encouraging economic growth in our community by supporting our members through business development\, networking\, education\, advocacy\, and access to resources.<br />\n<br />\n<br />\nRegistration Form Here:<strong><u><span style="color:#0000FF\;"> https://www.newulm.com/wp-content/uploads/2023/10/2023-Letter-to-Participants.pdf</span></u></strong><br />\n&nbsp\;
LOCATION:Downtown Minnesota Street between 4th South and 4th North Streets
UID:e.18.46108
SEQUENCE:3
DTSTAMP:20260421T014848Z
URL:https://business.newulm.com/events/details/parade-of-lights-46108
END:VEVENT

END:VCALENDAR
