BEGIN:VCALENDAR
VERSION:2.0
PRODID:-//ChamberMaster//Event Calendar 2.0//EN
METHOD:PUBLISH
X-PUBLISHED-TTL:P3D
REFRESH-INTERVAL:P3D
CALSCALE:GREGORIAN
BEGIN:VEVENT
DTSTART:20211121T210000Z
DTEND:20211121T220000Z
X-MICROSOFT-CDO-ALLDAYEVENT:FALSE
SUMMARY:MLC Wind Symphony Concert-"Diversions"
DESCRIPTION:Please join the Martin Luther College Wind Symphony for "Diversions" on Sunday\, November 21\, at 3:00 pm\, in the WCC Auditorium. The concert title is inspired by the musical term divertimento\, which describes a piece that's light and entertaining\, or\, quite literally\, a diversion from the ordinary.\n\n\n\nWorks on the program include Vincent Persichetti's Divertimento for Band\, Op. 42\; "Autumn Leaves" music by Joseph Kosma and band arrangement by Alfred Reed\, "Down East Fanfare" by Jack Stamp\, "Lux Aurumque" by Eric Whitacre\, and "Danza Sinfonica" by James Barnes. The concert is free and open to the public.
X-ALT-DESC;FMTTYPE=text/html:Please join the Martin Luther College Wind Symphony for &ldquo\;Diversions&rdquo\; on Sunday\, November 21\, at 3:00 pm\, in the WCC Auditorium. The concert title is inspired by the musical term divertimento\, which describes a piece that&rsquo\;s light and entertaining\, or\, quite literally\, a diversion from the ordinary.<br />\n<br />\nWorks on the program include Vincent Persichetti&rsquo\;s Divertimento for Band\, Op. 42\; &ldquo\;<em>Autumn Leaves</em>&rdquo\; music by Joseph Kosma and band arrangement by Alfred Reed\, &ldquo\;<em>Down East Fanfare</em>&rdquo\; by Jack Stamp\, &ldquo\;<em>Lux Aurumque</em>&rdquo\; by Eric Whitacre\, and &ldquo\;<em>Danza Sinfonica</em>&rdquo\; by James Barnes. The concert is free and open to the public.&nbsp\;
LOCATION:Martin Luther College-WCC Auditorium 1995 Luther Ct New Ulm\, MN 56073
UID:e.18.41255
SEQUENCE:3
DTSTAMP:20260423T070927Z
URL:https://business.newulm.com/events/details/mlc-wind-symphony-concert-11-21-2021-41255
END:VEVENT

END:VCALENDAR
