BEGIN:VCALENDAR
VERSION:2.0
PRODID:-//ChamberMaster//Event Calendar 2.0//EN
METHOD:PUBLISH
X-PUBLISHED-TTL:P3D
REFRESH-INTERVAL:P3D
CALSCALE:GREGORIAN
BEGIN:VEVENT
DTSTART:20200821T170000Z
DTEND:20200821T180000Z
X-MICROSOFT-CDO-ALLDAYEVENT:FALSE
SUMMARY:Downtown Action Team
DESCRIPTION:The Downtown Action Team meetings are held the 3rd Friday of each month at noon in the Chamber of Commerce Board Room. This group will be implementing the recommendations contained in the RETHOS Downtown Assessment Report.
X-ALT-DESC;FMTTYPE=text/html:The Downtown Action Team meetings are held the 3rd Friday of each month at noon in the Chamber of Commerce Board Room. This group will be implementing the recommendations contained in the RETHOS Downtown Assessment Report.
LOCATION:Chamber of Commerce Board Room
UID:e.18.39398
SEQUENCE:3
DTSTAMP:20260422T102816Z
URL:https://business.newulm.com/events/details/minnesota-main-street-downtown-action-team-08-21-2020-39398
END:VEVENT

END:VCALENDAR
