BEGIN:VCALENDAR
VERSION:2.0
PRODID:-//ChamberMaster//Event Calendar 2.0//EN
METHOD:PUBLISH
X-PUBLISHED-TTL:P3D
REFRESH-INTERVAL:P3D
CALSCALE:GREGORIAN
BEGIN:VEVENT
DTSTART:20220818T170000Z
DTEND:20220818T190000Z
X-MICROSOFT-CDO-ALLDAYEVENT:FALSE
SUMMARY:Milford Area Bus Tour - U.S.-Dakota War Commemoration
DESCRIPTION:Check the Brown County Historical Society website for more information as it becomes available.
X-ALT-DESC;FMTTYPE=text/html:Check the Brown County Historical Society website for more information as it becomes available.
LOCATION:Brown County Historical Society Museum 2 N. Broadway Street New Ulm\, MN 56073
UID:e.18.44150
SEQUENCE:3
DTSTAMP:20260423T143411Z
URL:https://business.newulm.com/events/details/milford-area-bus-tour-u-s-dakota-war-commemoration-08-18-2022-44150
END:VEVENT

END:VCALENDAR
