BEGIN:VCALENDAR
VERSION:2.0
PRODID:-//ChamberMaster//Event Calendar 2.0//EN
METHOD:PUBLISH
X-PUBLISHED-TTL:P3D
REFRESH-INTERVAL:P3D
CALSCALE:GREGORIAN
BEGIN:VEVENT
DTSTART:20250726T000000Z
DTEND:20250726T023000Z
X-MICROSOFT-CDO-ALLDAYEVENT:FALSE
SUMMARY:Michael Gold Quartet @The Grand Kabaret
DESCRIPTION:Join Bassist Michael Gold\, Guitarist Bill Bergman\, drummer Nathan Norman\, and Brad Holden on saxophone and vocals for a night of Jazz in the Grand Kabaret.
X-ALT-DESC;FMTTYPE=text/html:Join Bassist Michael Gold\, Guitarist Bill Bergman\, drummer Nathan Norman\, and Brad Holden on saxophone and vocals for a night of Jazz in the Grand Kabaret.
LOCATION:The Grand Center for Arts & Culture
UID:e.18.51167
SEQUENCE:3
DTSTAMP:20260421T085206Z
URL:https://business.newulm.com/events/details/michael-gold-quartet-the-grand-kabaret-51167
END:VEVENT

END:VCALENDAR
