BEGIN:VCALENDAR
VERSION:2.0
PRODID:-//ChamberMaster//Event Calendar 2.0//EN
METHOD:PUBLISH
X-PUBLISHED-TTL:P3D
REFRESH-INTERVAL:P3D
CALSCALE:GREGORIAN
BEGIN:VEVENT
DTSTART:20230914T183000Z
DTEND:20230914T193000Z
X-MICROSOFT-CDO-ALLDAYEVENT:FALSE
SUMMARY:Medicare Made Clear
DESCRIPTION:Presented by Natalie Kelly. We'll help you learn the basics! You're invited to a Medicare Made Clear  educational seminar. Join us to learn all about your upcoming Medicare choices. Understand what options you have in this year's Open Enrollment period. We'll also share tools and resources to help you understand the coverage that may be right for you\, including a free educational guide. Whether you're just getting started with Medicare or simply looking to learn more\, we're here to help. This presentation is free and everyone is welcome to attend. No preregistration required.
X-ALT-DESC;FMTTYPE=text/html:Presented by Natalie Kelly. We&rsquo\;ll help you learn the basics! You&rsquo\;re invited to a Medicare Made Clear&reg\; educational seminar. Join us to learn all about your upcoming Medicare choices. Understand what options you have in this year&rsquo\;s Open Enrollment period. We&rsquo\;ll also share tools and resources to help you understand the coverage that may be right for you\, including a free educational guide. Whether you&rsquo\;re just getting started with Medicare or simply looking to learn more\, we&rsquo\;re here to help. This presentation is free and everyone is welcome to attend. No preregistration required.
LOCATION:CAST Senior Center 600 North German Street New Ulm\, MN 56073
UID:e.18.46441
SEQUENCE:3
DTSTAMP:20260424T140916Z
URL:https://business.newulm.com/events/details/medicare-made-clear-46441
END:VEVENT

END:VCALENDAR
