BEGIN:VCALENDAR
VERSION:2.0
PRODID:-//ChamberMaster//Event Calendar 2.0//EN
METHOD:PUBLISH
X-PUBLISHED-TTL:P3D
REFRESH-INTERVAL:P3D
CALSCALE:GREGORIAN
BEGIN:VEVENT
DTSTART:20220906T233000Z
DTEND:20220907T003000Z
X-MICROSOFT-CDO-ALLDAYEVENT:FALSE
SUMMARY:Lit Wits Book Club
DESCRIPTION:Join the Lit Wits Book Club on Tuesday\, September 6 at 6:30 p.m. for a discussion of Mansfield Park by Jane Austen. The group usually meets on the first Monday of each month in the library's Fred Johnson room\, but will meet on Tuesday due to the Labor Day holiday. Copies of the book are available for checkout at the circulation desk. We hope to see you there! Call the library at 507-359-8331 or visit our website at www.newulmlibrary.org for more information.
X-ALT-DESC;FMTTYPE=text/html:Join the Lit Wits Book Club on Tuesday\, September 6 at 6:30 p.m. for a discussion of Mansfield Park by Jane Austen. The group usually meets on the first Monday of each month in the library&rsquo\;s Fred Johnson room\, but will meet on Tuesday due to the Labor Day holiday. Copies of the book are available for checkout at the circulation desk. We hope to see you there! Call the library at 507-359-8331 or visit our website at www.newulmlibrary.org for more information.
LOCATION:New Ulm Public Library Fred Johnson room
UID:e.18.44405
SEQUENCE:3
DTSTAMP:20260421T053947Z
URL:https://business.newulm.com/events/details/lit-wits-book-club-09-06-2022-44405
END:VEVENT

END:VCALENDAR
