BEGIN:VCALENDAR
VERSION:2.0
PRODID:-//ChamberMaster//Event Calendar 2.0//EN
METHOD:PUBLISH
X-PUBLISHED-TTL:P3D
REFRESH-INTERVAL:P3D
CALSCALE:GREGORIAN
BEGIN:VEVENT
DTSTART;VALUE=DATE:20210518
DTEND;VALUE=DATE:20210520
TRANSP:TRANSPARENT
X-MICROSOFT-CDO-ALLDAYEVENT:TRUE
SUMMARY:Job Search Workshop Series
DESCRIPTION:Are You Unemployed or Underemployed? \n\nJoin Life-Work Planning Center for our 3 Week Virtual Workshop Series on:\n\nJob Search\n\nIdentify your skills and how to highlight them to employers\nSessions will be held via Zoom\n\nBrown\, Nicollet\, Waseca\, Sibley\, and Watonwan County Residents:\n\nTuesdays: 3:00pm - 5:00pm\; Wednesdays: 1:00pm - 3:00pm or 6:00pm - 8:00pm     \n\nWorkshops Begin the week of May 17\, 2021 \n\n \n\nTopics Include:\n\n\n	 Assessments:  Complete the Myers Briggs\, STRONG Skills\, and Holland Code assessments to identify strengths and weaknesses and how to adapt to the workplace.\n	Work History:  Create a resume and address employment gaps.\n	Interview Skills and Job Search:  Learn how to answer tough interview questions\, impressive questions to ask at an interview\, and where to look for employment based on your assessment results.\n\nREGISTER BY CALLING 507-345-1577 OR\n\nE-MAIL INFO@LWPC.ORG\n\nMeeting invites will be sent via email to all registered participants.\n\n ____________________________________________________________________\n\nLife-Work Planning Center is: A Minnesota Family Resiliency Partnership Program\, \n\na SNAP Employment & Training Program\, and a Pre-Employment Program for Women.\n\n \n\nAll workshops are at no cost and open to anyone eligible who wants to enroll.
X-ALT-DESC;FMTTYPE=text/html:<div style="text-align: center\;"><span style="font-size:18px\;"><strong><span style="font-family:nirmala ui\,sans-serif\;">Are You Unemployed or Underemployed? </span></strong></span><br />\n<span style="font-size:16px\;"><span style="font-family:nirmala ui\,sans-serif\;">Join Life-Work Planning Center for our </span><span style="font-family:nirmala ui\,sans-serif\;">3 Week Virtual Workshop Series on:</span><br />\n<span style="font-family:nirmala ui\,sans-serif\;">Job Search</span></span><br />\n<strong><em><span style="font-family:didactgothic-regular\;"><span style="font-size:18.5pt\;">Identify your skills and how to highlight them to employers</span></span></em></strong></div>\n<span style="font-size:18px\;"><strong><span style="font-family:didactgothic-regular\;">Sessions will be held via Zoom</span></strong><br />\n<strong><span style="font-family:didactgothic-regular\;">Brown\, Nicollet\, Waseca\, Sibley\, and Watonwan County Residents:</span></strong></span><br />\n<span style="font-family:didactgothic-regular\;"><span style="font-size:16.0pt\;">Tuesdays: 3:00pm - 5:00pm\; Wednesdays: 1:00pm - 3:00pm or 6:00pm - 8:00pm &nbsp\;&nbsp\;&nbsp\; </span></span><br />\n<span style="font-family:didactgothic-regular\;"><span style="font-size:16.0pt\;">Workshops Begin the week of May 17\, 2021 </span></span><br />\n&nbsp\;<br />\n<span style="font-family:didactgothic-regular\;"><span style="font-size:16.0pt\;">Topics Include:</span></span>\n\n<ul>\n	<li>&nbsp\;<strong><span style="font-family:didactgothic-regular\;"><span style="font-size:12.0pt\;">Assessments</span></span></strong><span style="font-family:didactgothic-regular\;"><span style="font-size:12.0pt\;">:&nbsp\; Complete the Myers Briggs\, STRONG Skills\, and Holland Code assessments to identify strengths and weaknesses and how to adapt to the workplace.</span></span></li>\n	<li><strong><span style="font-family:didactgothic-regular\;"><span style="font-size:12.0pt\;">Work History:&nbsp\; </span></span></strong><span style="font-family:didactgothic-regular\;"><span style="font-size:12.0pt\;">Create a resume and address employment gaps.</span></span></li>\n	<li><span style="font-family:didactgothic-regular\;"><span style="font-size:12.0pt\;"><strong><span style="font-family:didactgothic-regular\;"><span style="font-size:12.0pt\;">Interview Skills and Job Search:&nbsp\; </span></span></strong><span style="font-family:didactgothic-regular\;"><span style="font-size:12.0pt\;">Learn how to answer tough interview questions\, impressive questions to ask at an interview\, and where to look for employment based on your assessment results.</span></span></span></span></li>\n</ul>\n<span style="font-size:18px\;"><span style="font-family:didactgothic-regular\;">REGISTER BY CALLING 507-345-1577 OR</span><br />\n<span style="font-family:didactgothic-regular\;">E-MAIL INFO@LWPC.ORG</span></span><br />\n<span style="font-family:didactgothic-regular\;"><span style="font-size:16.0pt\;">Meeting invites will be sent via email to all registered participants.</span></span><br />\n&nbsp\;<span style="font-family:calibri\,sans-serif\;"><span style="font-size:12.5pt\;">____________________________________________________________________</span></span><br />\n<span style="font-family:didactgothic\;"><span style="font-size:12.0pt\;">Life-Work Planning Center is: A Minnesota Family Resiliency Partnership Program\, </span></span><br />\n<span style="font-family:didactgothic\;"><span style="font-size:12.0pt\;">a SNAP Employment &amp\; Training Program\, and a Pre-Employment Program for Women.</span></span><br />\n&nbsp\;<br />\n<span style="font-family:didactgothic\;"><span style="font-size:12.0pt\;">All workshops are at no cost and open to anyone eligible who wants to enroll.</span></span>
LOCATION:Virtual
UID:e.18.40667
SEQUENCE:3
DTSTAMP:20260423T022013Z
URL:https://business.newulm.com/events/details/job-search-workshop-series-40667
END:VEVENT

END:VCALENDAR
