BEGIN:VCALENDAR
VERSION:2.0
PRODID:-//ChamberMaster//Event Calendar 2.0//EN
METHOD:PUBLISH
X-PUBLISHED-TTL:P3D
REFRESH-INTERVAL:P3D
CALSCALE:GREGORIAN
BEGIN:VEVENT
DTSTART:20250708T180000Z
DTEND:20250708T190000Z
X-MICROSOFT-CDO-ALLDAYEVENT:FALSE
SUMMARY:"Held in Minnesota: Untold WWII POW Stories" CAST Documentary Program
DESCRIPTION:Follow the extraordinary journey of German and Italian POWs held in Minnesota during WWI. Held in Minnesota: Untold WWII POW Stories is a Pioneer PBS documentary film about the forgotten history of twenty-one POW labor camps in Minnesota during WWII by way of a major POW camp in Algona\, Iowa. Explore the stories of these communities coming to bumpy terms with the enemy not only on their soil but tilling it\, during an extraordinary time in Minnesota's history and the world's. Provided by PBS. Provided by the CAST Senior Center\, our Documentary Programs provide an endless variety of interesting subjects in a prerecorded\, professional film format. They take us across the country and around the world\, experiencing and learning about places and people which we wouldn't otherwise have the opportunity to experience. Our documentaries are entertaining\, informative\, and inspiring. They offer a unique and powerful form of storytelling that captures your attention and provoke thought and discussion. Scheduled every Tuesday afternoon\, unless noted\, at 1pm at the CAST Senior Center\, our Documentary Programs are free and open to the public. There are no membership dues and everyone is welcome to attend. Programming is provided by Curiosity U and other online providers. Check out our documentary program schedule every month and join us. We look forward to seeing you!
X-ALT-DESC;FMTTYPE=text/html:Follow the extraordinary journey of German and Italian POWs held in Minnesota during WWI. Held in Minnesota: Untold WWII POW Stories is a&nbsp\;Pioneer PBS documentary film&nbsp\;about the forgotten history of twenty-one POW labor camps in Minnesota during WWII by way of a major POW camp in Algona\, Iowa. Explore the stories of these communities coming to bumpy terms with the enemy not only on their soil but tilling it\, during an extraordinary time in Minnesota&rsquo\;s history and the world&rsquo\;s. Provided by PBS. Provided by the CAST Senior Center\, our Documentary Programs provide an endless variety of interesting subjects in a prerecorded\, professional film format. They take us across the country and around the world\, experiencing and learning about places and people which we wouldn&rsquo\;t otherwise have the opportunity to experience. Our documentaries are entertaining\, informative\, and inspiring. They offer a unique and powerful form of storytelling that captures your attention and provoke thought and discussion. Scheduled every Tuesday afternoon\, unless noted\, at 1pm at the CAST Senior Center\, our Documentary Programs are free and open to the public. There are no membership dues and everyone is welcome to attend. Programming is provided by Curiosity U and other online providers. Check out our documentary program schedule every month and join us. We look forward to seeing you!
LOCATION:CAST Senior Center\, Room 112 600 N. German St. New Ulm\, MN 56073
UID:e.18.51128
SEQUENCE:3
DTSTAMP:20260422T084742Z
URL:https://business.newulm.com/events/details/held-in-minnesota-untold-wwii-pow-stories-cast-documentary-program-51128
END:VEVENT

END:VCALENDAR
