BEGIN:VCALENDAR
VERSION:2.0
PRODID:-//ChamberMaster//Event Calendar 2.0//EN
METHOD:PUBLISH
X-PUBLISHED-TTL:P3D
REFRESH-INTERVAL:P3D
CALSCALE:GREGORIAN
BEGIN:VEVENT
DTSTART:20260322T000000Z
DTEND:20260322T020000Z
X-MICROSOFT-CDO-ALLDAYEVENT:FALSE
SUMMARY:Gen X Jukebox: Hits of the ’90s
DESCRIPTION:Gen X Jukebox: Hits of the '90s\n\nGen X Jukebox is a high-energy stage performance that delivers everything you love about the 1990s in one incredible show! We invite you to relive the last great decade in music with us.\n\nThe show includes all of the radio hits (pop\, dance\, rap\, hip-hop\, rock\, grunge\, and country) from the 1990s in full costume. Characters like Courtney Love\, Spice Girls\, Britney Spears\, Eddie Vedder\, Vanilla Ice\, and Garth Brooks all make appearances.\n\nEvery song is a feel-good 1990s gem. Sing along with us and rock out to the best tunes from this incredible era in music. See for yourself why everyone is talking about this hot new show! 1990s Fun awaits you!
X-ALT-DESC;FMTTYPE=text/html:<h1>Gen X Jukebox: Hits of the &#39\;90s</h1>\n\n<p>Gen X Jukebox is a high-energy stage performance that delivers everything you love about the 1990s in one incredible show! We invite you to relive the last great decade in music with us.</p>\n\n<p>The show includes all of the radio hits (pop\, dance\, rap\, hip-hop\, rock\, grunge\, and country) from the 1990s in full costume. Characters like Courtney Love\, Spice Girls\, Britney Spears\, Eddie Vedder\, Vanilla Ice\, and Garth Brooks all make appearances.</p>\n\n<p>Every song is a feel-good 1990s gem. Sing along with us and rock out to the best tunes from this incredible era in music. See for yourself why everyone is talking about this hot new show! 1990s Fun awaits you!</p>\n
LOCATION:State Street Theater 1 N. State St. New Ulm\, MN 56073
UID:e.18.51908
SEQUENCE:3
DTSTAMP:20260421T102657Z
URL:https://business.newulm.com/events/details/gen-x-jukebox-hits-of-the-90s-51908
END:VEVENT

END:VCALENDAR
