BEGIN:VCALENDAR
VERSION:2.0
PRODID:-//ChamberMaster//Event Calendar 2.0//EN
METHOD:PUBLISH
X-PUBLISHED-TTL:P3D
REFRESH-INTERVAL:P3D
CALSCALE:GREGORIAN
BEGIN:VEVENT
DTSTART:20210608T180000Z
DTEND:20210608T210000Z
X-MICROSOFT-CDO-ALLDAYEVENT:FALSE
SUMMARY:Children’s Creativity Day Camp
DESCRIPTION:Place:  The Grand Center for Arts and Culture\, 210 N. Minnesota St.\n\nInstructors: Rhonda Johnson\, Ed Fornberg\, Kay Burnett Martin and Neil Neidt. Participants can attend both camps if they would like!\n\nParticipants will create art inside and outside the Grand Center for Arts & Culture. Scholarships available\, please contact The Grand with any questions: 507-359-9222 or grandnewulm@gmail.com\n\n** All COVID requirements will be followed**
X-ALT-DESC;FMTTYPE=text/html:<p>Place: &nbsp\;The Grand Center for Arts and Culture\, 210 N. Minnesota St.</p>\n\n<p>Instructors: Rhonda Johnson\, Ed Fornberg\, Kay Burnett Martin and Neil Neidt. Participants can attend&nbsp\;both camps if they would like!</p>\n\n<p>Participants will create art inside and outside the Grand Center for Arts &amp\; Culture. Scholarships available\, please contact The Grand with any questions: 507-359-9222 or <a href="mailto:grandnewulm@gmail.com"><span style="color:rgb(0\, 0\, 135)\; font-size:11px">grandnewulm@gmail.com</span></a></p>\n\n<p>** All COVID requirements will be followed**</p>\n
LOCATION:Place: The Grand Center for Arts and Culture\, 210 N. Minnesota St.
UID:e.18.40711
SEQUENCE:3
DTSTAMP:20260419T125737Z
URL:https://business.newulm.com/events/details/children-s-creativity-day-camp-06-08-2021-40711
END:VEVENT

END:VCALENDAR
