BEGIN:VCALENDAR
VERSION:2.0
PRODID:-//ChamberMaster//Event Calendar 2.0//EN
METHOD:PUBLISH
X-PUBLISHED-TTL:P3D
REFRESH-INTERVAL:P3D
CALSCALE:GREGORIAN
BEGIN:VEVENT
DTSTART:20210814T180000Z
DTEND:20210814T210000Z
X-MICROSOFT-CDO-ALLDAYEVENT:FALSE
SUMMARY:Chair Caning Demonstration at the Historic Kiesling House
DESCRIPTION:Programming 8/14/21 will be the art of Chair Caning. Demonstrations will take place 1:00-4:00. Explore the Historic Kiesling House. Constructed in 1861\; it survived the US   Dakota War of 1862\, tornados\, blackbirds\, grasshoppers\, and city development. It is one of the few structures in Brown County\, from that era\, that is accessible to the public. Participate in a wide variety of experiences scheduled at various times throughout the season. Learn about early pioneer settlement\, customs\, and traditions of area immigrants. Discover and reexamine events\, like the US-Dakota War of 1862\, that shaped New Ulm. Examine the development of community and influence of social and political issues on area residents.
X-ALT-DESC;FMTTYPE=text/html:Programming 8/14/21 will be the art of Chair Caning. Demonstrations will take place 1:00-4:00. Explore the Historic Kiesling House. Constructed in 1861\; it survived the US &ndash\; Dakota War of 1862\, tornados\, blackbirds\, grasshoppers\, and city development. It is one of the few structures in Brown County\, from that era\, that is accessible to the public. Participate in a wide variety of experiences scheduled at various times throughout the season. Learn about early pioneer settlement\, customs\, and traditions of area immigrants. Discover and reexamine events\, like the US-Dakota War of 1862\, that shaped New Ulm. Examine the development of community and influence of social and political issues on area residents.
LOCATION:220 North Minnesota Street New Ulm\, MN. 56073
UID:e.18.41041
SEQUENCE:3
DTSTAMP:20260422T103017Z
URL:https://business.newulm.com/events/details/chair-caning-demonstration-at-the-historic-kiesling-house-41041
END:VEVENT

END:VCALENDAR
