BEGIN:VCALENDAR
VERSION:2.0
PRODID:-//ChamberMaster//Event Calendar 2.0//EN
METHOD:PUBLISH
X-PUBLISHED-TTL:P3D
REFRESH-INTERVAL:P3D
CALSCALE:GREGORIAN
BEGIN:VEVENT
DTSTART:20250623T170000Z
DTEND:20250623T193000Z
X-MICROSOFT-CDO-ALLDAYEVENT:FALSE
SUMMARY:Canvas Creations! Entering grades 2-8
DESCRIPTION:You will have fun painting with your friends. Start with a blank canvas and acrylic paints and learn the basics about brush strokes\, mixing paint\, and basic painting techniques. This will be an enjoyable time to paint with friends! You will bring home three creations at the end of class. Display them as stand-alone or as companion pieces. All materials are supplied. Aprons are available\, but we suggest that you dress accordingly as acrylic paints do not wash out of clothes.
X-ALT-DESC;FMTTYPE=text/html:<p>You will have fun painting with your friends. Start with a blank canvas and acrylic paints and learn the basics about brush strokes\, mixing paint\, and basic painting techniques. This will be an enjoyable time to paint with friends! You will bring home three creations at the end of class. Display them as stand-alone or as companion pieces. All materials are supplied. Aprons are available\, but we suggest that you dress accordingly as acrylic paints do not wash out of clothes.</p>\n
LOCATION:Washington School Cafeteria (door #1)
UID:e.18.50094
SEQUENCE:3
DTSTAMP:20260422T084900Z
URL:https://business.newulm.com/events/details/canvas-creations-entering-grades-2-8-06-23-2025-50094
END:VEVENT

END:VCALENDAR
