BEGIN:VCALENDAR
VERSION:2.0
PRODID:-//ChamberMaster//Event Calendar 2.0//EN
METHOD:PUBLISH
X-PUBLISHED-TTL:P3D
REFRESH-INTERVAL:P3D
CALSCALE:GREGORIAN
BEGIN:VEVENT
DTSTART:20221228T193000Z
DTEND:20221228T213000Z
X-MICROSOFT-CDO-ALLDAYEVENT:FALSE
SUMMARY:Bingo at the CAST Senior Center
DESCRIPTION:Join us in the Cafetorium at the Senior Center for a fun afternoon of Bingo! Open to all and no preregistration needed. $1 per card to play with no card maximum and $4 cash payout for Bingo. 20 different rounds played each Wednesday!
X-ALT-DESC;FMTTYPE=text/html:Join us in the Cafetorium at the Senior Center for a fun afternoon of Bingo! Open to all and no preregistration needed. $1 per card to play with no card maximum and $4 cash payout for Bingo. 20 different rounds played each Wednesday!
LOCATION:CAST Senior Center/Cafetorium 600 North German Street New Ulm\, MN 56073
UID:e.18.44728
SEQUENCE:3
DTSTAMP:20260422T103010Z
URL:https://business.newulm.com/events/details/bingo-at-the-cast-senior-center-12-28-2022-44728
END:VEVENT

END:VCALENDAR
