BEGIN:VCALENDAR
VERSION:2.0
PRODID:-//ChamberMaster//Event Calendar 2.0//EN
METHOD:PUBLISH
X-PUBLISHED-TTL:P3D
REFRESH-INTERVAL:P3D
CALSCALE:GREGORIAN
BEGIN:VEVENT
DTSTART:20190523T233000Z
DTEND:20190524T013000Z
X-MICROSOFT-CDO-ALLDAYEVENT:FALSE
SUMMARY:Big Ideas Carpentry - Level 2 - Intermediate Wood Projects
DESCRIPTION:Upon successful completion of Carpentry Level 1 or with instructor permission - building on the concepts learned in level 1\, participants will engage in more difficult projects such as a bench or chair.  Safety rules and proper tool  usuage will be reinforced\, all power tools will be utilized and a more complex project will be completed.  Participants will be able to take the completed projects home at the end of the course.  For more information please go to www.BigIdeasUSA.org\, find us on Facebook or call 507-233-4443. Fee: $80 Location: New Ulm Public High School Door #10 Shop Room #130
X-ALT-DESC;FMTTYPE=text/html:Upon successful completion of Carpentry Level 1 or with instructor permission - building on the concepts learned in level 1\, participants will engage in more difficult projects such as a bench or chair.&nbsp\; Safety rules and proper tool&nbsp\; usuage will be reinforced\, all power tools will be utilized and a more complex project will be completed.&nbsp\; Participants will be able to take the completed projects home at the end of the course.&nbsp\; For more information please go to www.BigIdeasUSA.org\, find us on Facebook or call 507-233-4443. Fee: $80 Location: New Ulm Public High School Door #10 Shop Room #130
LOCATION:
UID:e.18.37875
SEQUENCE:3
DTSTAMP:20260422T012618Z
URL:https://business.newulm.com/events/details/big-ideas-carpentry-level-2-intermediate-wood-projects-05-23-2019-37875
END:VEVENT

END:VCALENDAR
