BEGIN:VCALENDAR
VERSION:2.0
PRODID:-//ChamberMaster//Event Calendar 2.0//EN
METHOD:PUBLISH
X-PUBLISHED-TTL:P3D
REFRESH-INTERVAL:P3D
CALSCALE:GREGORIAN
BEGIN:VEVENT
DTSTART:20220602T170000Z
DTEND:20220602T180000Z
X-MICROSOFT-CDO-ALLDAYEVENT:FALSE
SUMMARY:BCHS Lunch and a Bite of History: A History of Funeral Service in Brown County
DESCRIPTION:The public is invited to Lunch and a Bite of History on Thursday\, June 2nd. Eric Warmka of Minnesota Valley Funeral Home will share with us some history of funeral service in Brown County. Lunch and a Bite is free to the public. Reservations are required - To make a reservation call: 507-233-2621 or email: education@browncountyhistorymn.org
X-ALT-DESC;FMTTYPE=text/html:The public is invited to Lunch and a Bite of History on Thursday\, June 2nd. Eric Warmka of Minnesota Valley Funeral Home will share with us some history of funeral service in Brown County. Lunch and a Bite is free to the public. Reservations are required - To make a reservation call: 507-233-2621 or email: education@browncountyhistorymn.org
LOCATION:Brown County Museum Annex 12 N. Broadway
UID:e.18.43670
SEQUENCE:3
DTSTAMP:20260422T103052Z
URL:https://business.newulm.com/events/details/bchs-lunch-and-a-bite-of-history-a-history-of-funeral-service-in-brown-county-43670
END:VEVENT

END:VCALENDAR
