BEGIN:VCALENDAR
VERSION:2.0
PRODID:-//ChamberMaster//Event Calendar 2.0//EN
METHOD:PUBLISH
X-PUBLISHED-TTL:P3D
REFRESH-INTERVAL:P3D
CALSCALE:GREGORIAN
BEGIN:VEVENT
DTSTART:20250612T170000Z
DTEND:20250612T180000Z
X-MICROSOFT-CDO-ALLDAYEVENT:FALSE
SUMMARY:BCHS Lunch & A Bite "History of the Brown County Sheriff's Department"
DESCRIPTION:Brown County Historical Society's "Lunch and a Bite"\n\n\n\n"The History of the Brown County Sheriff's Department" by Jason Seidl\n\nJoin us for a fascinating presentation with Brown County Sheriff Jason Seidl.\n\nSheriff Seidl will explore the history of the Sheriff's Office\, highlighting some of the most significant and noteworthy Sheriffs who have served our county.\n\nHe'll also share stories of high-profile cases\, pivotal moments in the department's history\, and how the physical location of the office has shifted over time.
X-ALT-DESC;FMTTYPE=text/html:<span style="font-size:18px"><span style="font-family:times new roman">Brown County Historical Society&#39\;s &quot\;Lunch and a Bite&quot\;<br />\n<br />\n&quot\;The History of the Brown County Sheriff&#39\;s Department&quot\; by Jason Seidl</span></span><br />\n<span style="font-size:18px"><span style="font-family:times new roman">Join us for a fascinating presentation with Brown County Sheriff Jason Seidl.<br />\nSheriff Seidl will explore the history of the Sheriff&rsquo\;s Office\, highlighting some of the most significant and noteworthy Sheriffs who have served our county.<br />\nHe&rsquo\;ll also share stories of high-profile cases\, pivotal moments in the department&rsquo\;s history\, and how the physical location of the office has shifted over time.<br />\n&nbsp\;<br />\n&nbsp\;</span></span><br />\n&nbsp\;
LOCATION:BCHS Annex
UID:e.18.49917
SEQUENCE:3
DTSTAMP:20260421T085633Z
URL:https://business.newulm.com/events/details/bchs-lunch-a-bite-history-of-the-brown-county-sheriff-s-department-49917
END:VEVENT

END:VCALENDAR
