BEGIN:VCALENDAR
VERSION:2.0
PRODID:-//ChamberMaster//Event Calendar 2.0//EN
METHOD:PUBLISH
X-PUBLISHED-TTL:P3D
REFRESH-INTERVAL:P3D
CALSCALE:GREGORIAN
BEGIN:VEVENT
DTSTART:20250725T190000Z
DTEND:20250725T210000Z
X-MICROSOFT-CDO-ALLDAYEVENT:FALSE
SUMMARY:Afternoon Movie
DESCRIPTION:New Ulm Public Library is excited to present the Afternoon Movie. On Friday\, July 25\, join us for a showing of "Nanny McPhee." The movie is rated PG and has a 97-minute running time. We will sit down to watch the movie at 2 p.m. in the children's room. Popcorn will be served\, please bring your own water bottles. Movie screenings at the library are free and open to the public and are sponsored by the Optimist Club of New Ulm. You may call the library for more information at 507-359-8331.
X-ALT-DESC;FMTTYPE=text/html:New Ulm Public Library is excited to present the Afternoon Movie. On Friday\, July 25\, join us for a showing of &ldquo\;Nanny McPhee.&rdquo\; The movie is rated PG and has a 97-minute running time. We will sit down to watch the movie at 2 p.m. in the children&rsquo\;s room. Popcorn will be served\, please bring your own water bottles. Movie screenings at the library are free and open to the public and are sponsored by the Optimist Club of New Ulm. You may call the library for more information at 507-359-8331.
LOCATION:New Ulm Public Library children's room
UID:e.18.51248
SEQUENCE:3
DTSTAMP:20260421T085257Z
URL:https://business.newulm.com/events/details/afternoon-movie-07-25-2025-51248
END:VEVENT

END:VCALENDAR
