BEGIN:VCALENDAR
VERSION:2.0
PRODID:-//ChamberMaster//Event Calendar 2.0//EN
METHOD:PUBLISH
X-PUBLISHED-TTL:P3D
REFRESH-INTERVAL:P3D
CALSCALE:GREGORIAN
BEGIN:VEVENT
DTSTART:20200606T000000Z
DTEND:20200606T030000Z
X-MICROSOFT-CDO-ALLDAYEVENT:FALSE
SUMMARY:Ace in the Whole @ The Grand
DESCRIPTION:Ace in the Whole plays American music and original tunes that range from bluegrass\, blues\, jazz\, folk and western. Members include Tim Waters on guitar/banjo/pedal steel\, Mike Pengra on percussion\, Dave Pengra on bass\, and Kit Kildahl on guitar/harmonica.
X-ALT-DESC;FMTTYPE=text/html:<span style="background-color:rgb(255\, 255\, 255)\; color:rgba(29\, 29\, 29\, 0.7)\; font-family:rubik\; font-size:18px">Ace in the Whole plays American music and original tunes that range from bluegrass\, blues\, jazz\, folk and western. Members include Tim Waters on guitar/banjo/pedal steel\, Mike Pengra on percussion\, Dave Pengra on bass\, and Kit Kildahl on guitar/harmonica.</span>
LOCATION:The Grand Kabaret 210 N. Minnesota St. New Ulm\, Mn 56073
UID:e.18.39712
SEQUENCE:3
DTSTAMP:20260421T085355Z
URL:https://business.newulm.com/events/details/ace-in-the-whole-the-grand-39712
END:VEVENT

END:VCALENDAR
