BEGIN:VCALENDAR
VERSION:2.0
PRODID:-//ChamberMaster//Event Calendar 2.0//EN
METHOD:PUBLISH
X-PUBLISHED-TTL:P3D
REFRESH-INTERVAL:P3D
CALSCALE:GREGORIAN
BEGIN:VEVENT
DTSTART:20250704T160000Z
DTEND:20250705T010000Z
X-MICROSOFT-CDO-ALLDAYEVENT:FALSE
SUMMARY:4th of July at Turner Park
DESCRIPTION:Join us on the 4th of July for our Party in the Park. This event is free and open to the public to attend. There will be live music from Adam & the Jammers\, The Wendinger Band\, the Concord Singers and for the first time at Turner Hall\, 3 Hour Download. We will have cold beer\, hot food\, ice cream and kids' activities. Bring your chairs\, sunscreen and cash and stay all day! The Turner Ladies will have their famous pie for sale in the Founders room as well. We can't wait to see you!
X-ALT-DESC;FMTTYPE=text/html:Join us on the 4th of July for our Party in the Park. This event is free and open to the public to attend. There will be live music from Adam &amp\; the Jammers\, The Wendinger Band\, the Concord Singers and for the first time at Turner Hall\, 3 Hour Download. We will have cold beer\, hot food\, ice cream and kids&#39\; activities. Bring your chairs\, sunscreen and cash and stay all day! The Turner Ladies will have their famous pie for sale in the Founders room as well. We can&#39\;t wait to see you!
LOCATION:Turner Park at Turner Hall 102 S State Street New Ulm Mn 56073
UID:e.18.50725
SEQUENCE:3
DTSTAMP:20260422T132913Z
URL:https://business.newulm.com/events/details/4th-of-july-in-turner-park-07-04-2025-50725
END:VEVENT

END:VCALENDAR
