BEGIN:VCALENDAR
VERSION:2.0
PRODID:-//ChamberMaster//Event Calendar 2.0//EN
METHOD:PUBLISH
X-PUBLISHED-TTL:P3D
REFRESH-INTERVAL:P3D
CALSCALE:GREGORIAN
BEGIN:VEVENT
DTSTART:20250315T140000Z
DTEND:20250316T200000Z
X-MICROSOFT-CDO-ALLDAYEVENT:FALSE
SUMMARY:44th Annual New Ulm Trade Fair
DESCRIPTION:44th Annual New Ulm Trade Fair Saturday\, March 15th\, 2025\, 9 am   5 pm\; Sunday\, March 16th\, 2025\, 9 am - 3 pm. Admission $7.00 per person.\n\nCollector's Medallion Includes 2-day admission $8 early\, $10 at show.\n\nOver 100 tables of historic crafts and items of the American Fur Trade Era
X-ALT-DESC;FMTTYPE=text/html:44th Annual New Ulm Trade Fair Saturday\, March 15th\, 2025\, 9 am &ndash\; 5 pm\; Sunday\, March 16th\, 2025\, 9 am - 3 pm. Admission $7.00 per person.<br />\nCollector&#39\;s Medallion Includes 2-day admission $8 early\, $10 at show.<br />\nOver 100 tables of historic crafts and items of the American Fur Trade Era
LOCATION:Royal Oak Event Center
UID:e.18.47300
SEQUENCE:3
DTSTAMP:20260421T102546Z
URL:https://business.newulm.com/events/details/44th-annual-new-ulm-trade-fair-47300
END:VEVENT

END:VCALENDAR
