BEGIN:VCALENDAR
VERSION:2.0
PRODID:-//ChamberMaster//Event Calendar 2.0//EN
METHOD:PUBLISH
X-PUBLISHED-TTL:P3D
REFRESH-INTERVAL:P3D
CALSCALE:GREGORIAN
BEGIN:VEVENT
DTSTART:20250712T150000Z
DTEND:20250712T170000Z
X-MICROSOFT-CDO-ALLDAYEVENT:FALSE
SUMMARY:2 Hour Downtown New Ulm Walking Tour
DESCRIPTION:Discover the rich history\, stunning architecture\, and captivating tales of New Ulm on our Downtown Heritage Tour. Stroll through the heart of the city as you uncover its unique stories and hidden gems\, perfect for history buffs and curious explorers alike.
X-ALT-DESC;FMTTYPE=text/html:<span style="color:rgb(30\, 30\, 30)\; font-family:syne\,sans-serif\; font-size:17px">Discover the rich history\, stunning architecture\, and captivating tales of New Ulm on our Downtown Heritage Tour. Stroll through the heart of the city as you uncover its unique stories and hidden gems\, perfect for history buffs and curious explorers alike.</span>
LOCATION:Downtown New Ulm
UID:e.18.49987
SEQUENCE:3
DTSTAMP:20260422T085931Z
URL:https://business.newulm.com/events/details/2-hour-downtown-new-ulm-walking-tour-06-07-2025-49987
END:VEVENT

END:VCALENDAR
