BEGIN:VCALENDAR
VERSION:2.0
PRODID:-//ChamberMaster//Event Calendar 2.0//EN
METHOD:PUBLISH
X-PUBLISHED-TTL:P3D
REFRESH-INTERVAL:P3D
CALSCALE:GREGORIAN
BEGIN:VEVENT
DTSTART:20231114T170000Z
DTEND:20231114T180000Z
X-MICROSOFT-CDO-ALLDAYEVENT:FALSE
SUMMARY:Webinar: How to Become the Obvious Choice in Your Customer's Mind
DESCRIPTION:Reputation is more important than ever\, especially when you're trying to build trust\, solidify customer loyalty\, and increase sales. Learn what you can do starting now. Learn more: https://www.go.vimm.com/how-to-become-the-obvious-choice-class
X-ALT-DESC;FMTTYPE=text/html:Reputation is more important than ever\, especially when you&#39\;re trying to build trust\, solidify customer loyalty\, and increase sales. Learn what you can do starting now. Learn more:&nbsp\;https://www.go.vimm.com/how-to-become-the-obvious-choice-class
LOCATION:Online
UID:e.18.46596
SEQUENCE:3
DTSTAMP:20260419T151033Z
URL:http://business.newulm.com/events/details/webinar-how-to-become-the-obvious-choice-in-your-customer-s-mind-46596
END:VEVENT

END:VCALENDAR
