BEGIN:VCALENDAR
VERSION:2.0
PRODID:-//ChamberMaster//Event Calendar 2.0//EN
METHOD:PUBLISH
X-PUBLISHED-TTL:P3D
REFRESH-INTERVAL:P3D
CALSCALE:GREGORIAN
BEGIN:VEVENT
DTSTART:20230624T140000Z
DTEND:20230624T220000Z
X-MICROSOFT-CDO-ALLDAYEVENT:FALSE
SUMMARY:Wanda Gag House Open
DESCRIPTION:The Wanda Gag House will be open for tours. Restored 1893 Queen Anne house. Childhood home of world famous artist and Children's author Wanda Gag. Exhibits include original art. lithographs\, illustrations\, photographs\, memorabilia\, and an exhibit of books by Wanda and her family. Gift shop.
X-ALT-DESC;FMTTYPE=text/html:The Wanda Gag House will be open for tours. Restored 1893 Queen Anne house. Childhood home of world famous artist and Children&#39\;s author Wanda Gag. Exhibits include original art. lithographs\, illustrations\, photographs\, memorabilia\, and an exhibit of books by Wanda and her family. Gift shop.
LOCATION:226 N Washington St
UID:e.18.45494
SEQUENCE:3
DTSTAMP:20260420T200106Z
URL:http://business.newulm.com/events/details/wanda-gag-house-open-06-24-2023-45494
END:VEVENT

END:VCALENDAR
