BEGIN:VCALENDAR
VERSION:2.0
PRODID:-//ChamberMaster//Event Calendar 2.0//EN
METHOD:PUBLISH
X-PUBLISHED-TTL:P3D
REFRESH-INTERVAL:P3D
CALSCALE:GREGORIAN
BEGIN:VEVENT
DTSTART:20220806T000000Z
DTEND:20220806T030000Z
X-MICROSOFT-CDO-ALLDAYEVENT:FALSE
SUMMARY:Veigel's Kaiserhoff! at the K-Bar: Live music from TC Chandler from 7:00 - 10:00!
DESCRIPTION:8/5 Friday night at Veigel's Kaiserhoffs K-Bar: Live music from TC Chandler from 7:00 - 10:00!\n\nThe K Bar is the newly remodeled addition next door to the Kaiserhoff!\n\nCome for Dinner and Stay for the Show!
X-ALT-DESC;FMTTYPE=text/html:8/5 Friday night at Veigel&#39\;s Kaiserhoffs K-Bar: Live music from TC Chandler from 7:00 - 10:00!<br />\n<span style="background-color:rgb(255\, 255\, 255)\; color:rgb(122\, 122\, 122)\; font-family:hind madurai\,sans-serif\; font-size:15px">The K Bar is the newly remodeled addition next door to the Kaiserhoff!</span><br />\nCome for Dinner and Stay for the Show!
LOCATION:221 North Minnesota Street\, New Ulm
UID:e.18.44221
SEQUENCE:3
DTSTAMP:20260423T195633Z
URL:http://business.newulm.com/events/details/veigel-s-kaiserhoff-at-the-k-bar-live-music-from-tc-chandler-from-7-00-10-00-44221
END:VEVENT

END:VCALENDAR
