BEGIN:VCALENDAR
VERSION:2.0
PRODID:-//ChamberMaster//Event Calendar 2.0//EN
METHOD:PUBLISH
X-PUBLISHED-TTL:P3D
REFRESH-INTERVAL:P3D
CALSCALE:GREGORIAN
BEGIN:VEVENT
DTSTART:20220813T170000Z
DTEND:20220813T210000Z
X-MICROSOFT-CDO-ALLDAYEVENT:FALSE
SUMMARY:The Historic Kiesling House
DESCRIPTION:2022 Program Schedule coming soon! Explore the Historic Kiesling House. Constructed in 1861\; it survived the US-Dakota War of 1862\, tornados\, blackbirds\, grasshoppers\, and city development. Come learn what these walls have to say.
X-ALT-DESC;FMTTYPE=text/html:2022 Program Schedule coming soon! Explore the Historic Kiesling House. Constructed in 1861\; it survived the US-Dakota War of 1862\, tornados\, blackbirds\, grasshoppers\, and city development. Come learn what these walls have to say.
LOCATION:
UID:e.18.43749
SEQUENCE:3
DTSTAMP:20260422T203941Z
URL:http://business.newulm.com/events/details/the-historic-kiesling-house-08-13-2022-43749
END:VEVENT

END:VCALENDAR
