BEGIN:VCALENDAR
VERSION:2.0
PRODID:-//ChamberMaster//Event Calendar 2.0//EN
METHOD:PUBLISH
X-PUBLISHED-TTL:P3D
REFRESH-INTERVAL:P3D
CALSCALE:GREGORIAN
BEGIN:VEVENT
DTSTART:20210904T180000Z
DTEND:20210904T210000Z
X-MICROSOFT-CDO-ALLDAYEVENT:FALSE
SUMMARY:The Art of Spinning at the Historic Kiesling House
DESCRIPTION:Programming 9/4/21 will be the art of Spinning. Demonstrations will take place 1:00-4:00. Explore the Historic Kiesling House. Constructed in 1861\; it survived the US   Dakota War of 1862\, tornados\, blackbirds\, grasshoppers\, and city development. It is one of the few structures in Brown County\, from that era\, that is accessible to the public. Participate in a wide variety of experiences scheduled at various times throughout the season. Learn about early pioneer
X-ALT-DESC;FMTTYPE=text/html:Programming 9/4/21 will be the art of Spinning. Demonstrations will take place 1:00-4:00. Explore the Historic Kiesling House. Constructed in 1861\; it survived the US &ndash\; Dakota War of 1862\, tornados\, blackbirds\, grasshoppers\, and city development. It is one of the few structures in Brown County\, from that era\, that is accessible to the public. Participate in a wide variety of experiences scheduled at various times throughout the season. Learn about early pioneer
LOCATION:220 North Minnesota Street New Ulm\, MN. 56073
UID:e.18.41044
SEQUENCE:3
DTSTAMP:20260421T104506Z
URL:http://business.newulm.com/events/details/the-art-of-spinning-at-the-historic-kiesling-house-41044
END:VEVENT

END:VCALENDAR
