BEGIN:VCALENDAR
VERSION:2.0
PRODID:-//ChamberMaster//Event Calendar 2.0//EN
METHOD:PUBLISH
X-PUBLISHED-TTL:P3D
REFRESH-INTERVAL:P3D
CALSCALE:GREGORIAN
BEGIN:VEVENT
DTSTART:20221119T000000Z
DTEND:20221119T020000Z
X-MICROSOFT-CDO-ALLDAYEVENT:FALSE
SUMMARY:Starkeller Music Series: Mal Murphy
DESCRIPTION:
X-ALT-DESC;FMTTYPE=text/html:
LOCATION:2215 N Garden St\, New Ulm\, MN 56073
UID:e.18.44664
SEQUENCE:3
DTSTAMP:20260420T220006Z
URL:http://business.newulm.com/events/details/starkeller-music-series-mal-murphy-44664
END:VEVENT

END:VCALENDAR
