BEGIN:VCALENDAR
VERSION:2.0
PRODID:-//ChamberMaster//Event Calendar 2.0//EN
METHOD:PUBLISH
X-PUBLISHED-TTL:P3D
REFRESH-INTERVAL:P3D
CALSCALE:GREGORIAN
BEGIN:VEVENT
DTSTART:20220917T150000Z
DTEND:20220917T180000Z
X-MICROSOFT-CDO-ALLDAYEVENT:FALSE
SUMMARY:Sine the Light Suicide Awareness & Prevention Event
DESCRIPTION:Hosted by Brown County Yellow Ribbon\n\n\n\nWe will remember those lost\, support those who have survived\, and save those that we can. We can make a difference\, one life at a time.
X-ALT-DESC;FMTTYPE=text/html:Hosted by Brown County Yellow Ribbon<br />\n<br />\nWe will remember those lost\, support those who have survived\, and save those that we can. We can make a difference\, one life at a time.
LOCATION:German Park
UID:e.18.44484
SEQUENCE:3
DTSTAMP:20260420T221733Z
URL:http://business.newulm.com/events/details/sine-the-light-suicide-awareness-prevention-event-44484
END:VEVENT

END:VCALENDAR
