BEGIN:VCALENDAR
VERSION:2.0
PRODID:-//ChamberMaster//Event Calendar 2.0//EN
METHOD:PUBLISH
X-PUBLISHED-TTL:P3D
REFRESH-INTERVAL:P3D
CALSCALE:GREGORIAN
BEGIN:VEVENT
DTSTART:20251030T150000Z
DTEND:20251030T154500Z
X-MICROSOFT-CDO-ALLDAYEVENT:FALSE
SUMMARY:Sensory Playtime
DESCRIPTION:New Ulm Public Library is excited to present Sensory Playtime on Thursday\, October 30\, at 10 a.m. in the children's room. Join us for a story or two\, songs\, and a lot of sensory play. This program is for children and their caregivers. Registration is required\; visit www.newulmlibrary.org and click on Library Events to register. Please call the library for more information at 507-359-8331.
X-ALT-DESC;FMTTYPE=text/html:New Ulm Public Library is excited to present Sensory Playtime on Thursday\, October 30\, at 10 a.m. in the children&rsquo\;s room. Join us for a story or two\, songs\, and a lot of sensory play. This program is for children and their caregivers. Registration is required\; visit www.newulmlibrary.org and click on Library Events to register. Please call the library for more information at 507-359-8331.
LOCATION:New Ulm Public Library children's room
UID:e.18.51479
SEQUENCE:3
DTSTAMP:20260422T090147Z
URL:http://business.newulm.com/events/details/sensory-playtime-10-30-2025-51479
END:VEVENT

END:VCALENDAR
