BEGIN:VCALENDAR
VERSION:2.0
PRODID:-//ChamberMaster//Event Calendar 2.0//EN
METHOD:PUBLISH
X-PUBLISHED-TTL:P3D
REFRESH-INTERVAL:P3D
CALSCALE:GREGORIAN
BEGIN:VEVENT
DTSTART:20240802T230000Z
DTEND:20240803T010000Z
X-MICROSOFT-CDO-ALLDAYEVENT:FALSE
SUMMARY:Schell's Bier Garten Music: Ben Scruggs
DESCRIPTION:Schell's Bier Garten Music: Ben Scruggs
X-ALT-DESC;FMTTYPE=text/html:Schell&#39\;s Bier Garten Music: Ben Scruggs
LOCATION:Schell's Bier Garten
UID:e.18.47506
SEQUENCE:3
DTSTAMP:20260425T113246Z
URL:http://business.newulm.com/events/details/schell-s-bier-garten-music-ben-scruggs-08-02-2024-47506
END:VEVENT

END:VCALENDAR
