BEGIN:VCALENDAR
VERSION:2.0
PRODID:-//ChamberMaster//Event Calendar 2.0//EN
METHOD:PUBLISH
X-PUBLISHED-TTL:P3D
REFRESH-INTERVAL:P3D
CALSCALE:GREGORIAN
BEGIN:VEVENT
DTSTART:20191201T013000Z
DTEND:20191201T053000Z
X-MICROSOFT-CDO-ALLDAYEVENT:FALSE
SUMMARY:Rock of Ages
DESCRIPTION:Rock of Ages back for 2nd time at the Lamplighter Sports Bar & Grill!
X-ALT-DESC;FMTTYPE=text/html:Rock of Ages back for 2nd time at the Lamplighter Sports Bar &amp\; Grill!
LOCATION:Lamplighter Sports Bar & Grill 214 North Minnesota Street New Ulm\, MN 56073
UID:e.18.38821
SEQUENCE:3
DTSTAMP:20260424T203904Z
URL:http://business.newulm.com/events/details/rock-of-ages-38821
END:VEVENT

END:VCALENDAR
