BEGIN:VCALENDAR
VERSION:2.0
PRODID:-//ChamberMaster//Event Calendar 2.0//EN
METHOD:PUBLISH
X-PUBLISHED-TTL:P3D
REFRESH-INTERVAL:P3D
CALSCALE:GREGORIAN
BEGIN:VEVENT
DTSTART:20211006T210000Z
DTEND:20211006T230000Z
X-MICROSOFT-CDO-ALLDAYEVENT:FALSE
SUMMARY:Public Educational Activity Open House
DESCRIPTION:The City of New Ulm along with Brown County will be hosting a Public Educational Activity Open House concerning storm water pollution prevention and the benefits of rain gardens and rain barrels.
X-ALT-DESC;FMTTYPE=text/html:The City of New Ulm along with Brown County will be hosting a Public Educational Activity Open House concerning storm water pollution prevention and the benefits of rain gardens and rain barrels.
LOCATION:Herman Heights Park 14 Monument Street
UID:e.18.41285
SEQUENCE:3
DTSTAMP:20260420T165200Z
URL:http://business.newulm.com/events/details/public-educational-activity-open-house-41285
END:VEVENT

END:VCALENDAR
