BEGIN:VCALENDAR
VERSION:2.0
PRODID:-//ChamberMaster//Event Calendar 2.0//EN
METHOD:PUBLISH
X-PUBLISHED-TTL:P3D
REFRESH-INTERVAL:P3D
CALSCALE:GREGORIAN
BEGIN:VEVENT
DTSTART:20221121T140000Z
DTEND:20221121T160000Z
X-MICROSOFT-CDO-ALLDAYEVENT:FALSE
SUMMARY:Operation Christmas Child Drop-off Location
DESCRIPTION:Operation Christmas Child Drop-off Location
X-ALT-DESC;FMTTYPE=text/html:Operation Christmas Child Drop-off Location
LOCATION:First United Methodist Church
UID:e.18.44639
SEQUENCE:3
DTSTAMP:20260419T153730Z
URL:http://business.newulm.com/events/details/operation-christmas-child-drop-off-location-11-21-2022-44639
END:VEVENT

END:VCALENDAR
