BEGIN:VCALENDAR
VERSION:2.0
PRODID:-//ChamberMaster//Event Calendar 2.0//EN
METHOD:PUBLISH
X-PUBLISHED-TTL:P3D
REFRESH-INTERVAL:P3D
CALSCALE:GREGORIAN
BEGIN:VEVENT
DTSTART:20200905T140000Z
DTEND:20200906T200000Z
X-MICROSOFT-CDO-ALLDAYEVENT:FALSE
SUMMARY:New Ulm Toy Show
DESCRIPTION:Celebrating 35 years! New Ulm Toy Show Farm toys\; cars\; trucks & various collectables Farm layouts will be displayed. Welcome new vendors.
X-ALT-DESC;FMTTYPE=text/html:Celebrating 35 years! New Ulm Toy Show Farm toys\; cars\; trucks &amp\; various collectables Farm layouts will be displayed. Welcome new vendors.
LOCATION:Held at the New Ulm Civic Center 1212 N Franklin Street
UID:e.18.39791
SEQUENCE:3
DTSTAMP:20260420T002038Z
URL:http://business.newulm.com/events/details/new-ulm-toy-show-39791
END:VEVENT

END:VCALENDAR
