BEGIN:VCALENDAR
VERSION:2.0
PRODID:-//ChamberMaster//Event Calendar 2.0//EN
METHOD:PUBLISH
X-PUBLISHED-TTL:P3D
REFRESH-INTERVAL:P3D
CALSCALE:GREGORIAN
BEGIN:VEVENT
DTSTART:20230308T000000Z
DTEND:20230308T014500Z
X-MICROSOFT-CDO-ALLDAYEVENT:FALSE
SUMMARY:New Ulm Chess Club
DESCRIPTION:Be part of New Ulm's new Chess Club! The Chess Club will meet at the New Ulm Public Library every Tuesday evening from 6-7:45 PM upstairs in the adult non-fiction area. Everyone is welcome whether you are a beginner or have been playing for years\, if you're 9 or 90\, we'd love to have you join us!
X-ALT-DESC;FMTTYPE=text/html:Be part of New Ulm&rsquo\;s new Chess Club! The Chess Club will meet at the New Ulm Public Library every Tuesday evening from 6-7:45 PM upstairs in the adult non-fiction area. Everyone is welcome whether you are a beginner or have been playing for years\, if you&rsquo\;re 9 or 90\, we&rsquo\;d love to have you join us!
LOCATION:New Ulm Public Library adult non-fiction area
UID:e.18.45022
SEQUENCE:3
DTSTAMP:20260421T171113Z
URL:http://business.newulm.com/events/details/new-ulm-chess-club-03-07-2023-45022
END:VEVENT

END:VCALENDAR
