BEGIN:VCALENDAR
VERSION:2.0
PRODID:-//ChamberMaster//Event Calendar 2.0//EN
METHOD:PUBLISH
X-PUBLISHED-TTL:P3D
REFRESH-INTERVAL:P3D
CALSCALE:GREGORIAN
BEGIN:VEVENT
DTSTART:20220902T133000Z
DTEND:20220902T183000Z
X-MICROSOFT-CDO-ALLDAYEVENT:FALSE
SUMMARY:New Ulm Blood Drive
DESCRIPTION:American Red Cross Blood Drive
X-ALT-DESC;FMTTYPE=text/html:American Red Cross Blood Drive
LOCATION:New Ulm Civic Center 1212 North Franklin Street
UID:e.18.44419
SEQUENCE:3
DTSTAMP:20260426T010005Z
URL:http://business.newulm.com/events/details/new-ulm-blood-drive-44419
END:VEVENT

END:VCALENDAR
