BEGIN:VCALENDAR
VERSION:2.0
PRODID:-//ChamberMaster//Event Calendar 2.0//EN
METHOD:PUBLISH
X-PUBLISHED-TTL:P3D
REFRESH-INTERVAL:P3D
CALSCALE:GREGORIAN
BEGIN:VEVENT
DTSTART:20220820T160000Z
DTEND:20220820T200000Z
X-MICROSOFT-CDO-ALLDAYEVENT:FALSE
SUMMARY:New Ulm Battery Presentation
DESCRIPTION:The New Ulm Battery will have a presentation at the Kiesling House as a part of the U.S.- Dakota War Commemoration. Check the Brown County Historical Society website for more information as it becomes available.
X-ALT-DESC;FMTTYPE=text/html:The New Ulm Battery will have a presentation at the Kiesling House as a part of the U.S.- Dakota War Commemoration. Check the Brown County Historical Society website for more information as it becomes available.
LOCATION:Keisling House 220 North Minnesota Street New Ulm\, MN 56073
UID:e.18.44162
SEQUENCE:3
DTSTAMP:20260426T004353Z
URL:http://business.newulm.com/events/details/new-ulm-battery-presentation-44162
END:VEVENT

END:VCALENDAR
