BEGIN:VCALENDAR
VERSION:2.0
PRODID:-//ChamberMaster//Event Calendar 2.0//EN
METHOD:PUBLISH
X-PUBLISHED-TTL:P3D
REFRESH-INTERVAL:P3D
CALSCALE:GREGORIAN
BEGIN:VEVENT
DTSTART:20230321T233000Z
DTEND:20230322T003000Z
X-MICROSOFT-CDO-ALLDAYEVENT:FALSE
SUMMARY:Minnesota Valley Civil War Round Table
DESCRIPTION:Join us on Tuesday\, March 21 at 6:30 p.m. for the Minnesota Valley Civil War Round Table's next meeting. The Minnesota Valley Civil War Round Table meets on the third Tuesday of each month at the New Ulm Public Library and each presenter shares insights on historical events and people connected to the Civil War. We'll be holding a planning session as part of this month's meeting to identify topics of interest for future presentations\, so we hope you'll bring your ideas and join us! If you would like to be a presenter\, please call the library at 507-359-8331.
X-ALT-DESC;FMTTYPE=text/html:Join us on Tuesday\, March 21 at 6:30 p.m. for the Minnesota Valley Civil War Round Table&rsquo\;s next meeting. The Minnesota Valley Civil War Round Table meets on the third Tuesday of each month at the New Ulm Public Library and each presenter shares insights on historical events and people connected to the Civil War. We&#39\;ll be holding a planning session as part of this month&#39\;s meeting to identify topics of interest for future presentations\, so we hope you&#39\;ll bring your ideas and join us! If you would like to be a presenter\, please call the library at 507-359-8331.
LOCATION:New Ulm Public Library meeting room
UID:e.18.45029
SEQUENCE:3
DTSTAMP:20260421T160851Z
URL:http://business.newulm.com/events/details/minnesota-valley-civil-war-round-table-03-21-2023-45029
END:VEVENT

END:VCALENDAR
