BEGIN:VCALENDAR
VERSION:2.0
PRODID:-//ChamberMaster//Event Calendar 2.0//EN
METHOD:PUBLISH
X-PUBLISHED-TTL:P3D
REFRESH-INTERVAL:P3D
CALSCALE:GREGORIAN
BEGIN:VEVENT
DTSTART:20211017T001000Z
DTEND:20211017T001000Z
X-MICROSOFT-CDO-ALLDAYEVENT:FALSE
SUMMARY:New Ulm Steel vs. Peoria Mustangs
DESCRIPTION:New Ulm Steel vs. Peoria Mustangs
X-ALT-DESC;FMTTYPE=text/html:New Ulm Steel vs. Peoria Mustangs
LOCATION:New Ulm Civic Center
UID:e.18.41243
SEQUENCE:3
DTSTAMP:20260420T215006Z
URL:http://business.newulm.com/events/details/minnesota-steel-vs-peoria-mustangs-10-16-2021-41243
END:VEVENT

END:VCALENDAR
