BEGIN:VCALENDAR
VERSION:2.0
PRODID:-//ChamberMaster//Event Calendar 2.0//EN
METHOD:PUBLISH
X-PUBLISHED-TTL:P3D
REFRESH-INTERVAL:P3D
CALSCALE:GREGORIAN
BEGIN:VEVENT
DTSTART:20230909T000000Z
DTEND:20230909T020000Z
X-MICROSOFT-CDO-ALLDAYEVENT:FALSE
SUMMARY:Live Music at The Grand Kabaret - Bully Pulpit Bluegrass Band
DESCRIPTION:Bully Pulpit Bluegrass Band
X-ALT-DESC;FMTTYPE=text/html:Bully Pulpit Bluegrass Band<br />\n<br />\n&nbsp\;
LOCATION:The Grand Kabaret
UID:e.18.45325
SEQUENCE:3
DTSTAMP:20260426T013911Z
URL:http://business.newulm.com/events/details/live-music-at-the-grand-kabaret-bully-pulpit-bluegrass-band-45325
END:VEVENT

END:VCALENDAR
