BEGIN:VCALENDAR
VERSION:2.0
PRODID:-//ChamberMaster//Event Calendar 2.0//EN
METHOD:PUBLISH
X-PUBLISHED-TTL:P3D
REFRESH-INTERVAL:P3D
CALSCALE:GREGORIAN
BEGIN:VEVENT
DTSTART:20211016T000000Z
DTEND:20211016T023000Z
X-MICROSOFT-CDO-ALLDAYEVENT:FALSE
SUMMARY:Live Music at The Grand
DESCRIPTION:Masa Ishikawa is a jazz musician.
X-ALT-DESC;FMTTYPE=text/html:Masa Ishikawa is a jazz musician.
LOCATION:The Grand Center for Arts and Culture
UID:e.18.41154
SEQUENCE:3
DTSTAMP:20260423T134050Z
URL:http://business.newulm.com/events/details/live-music-at-the-grand-10-15-2021-41154
END:VEVENT

END:VCALENDAR
