BEGIN:VCALENDAR
VERSION:2.0
PRODID:-//ChamberMaster//Event Calendar 2.0//EN
METHOD:PUBLISH
X-PUBLISHED-TTL:P3D
REFRESH-INTERVAL:P3D
CALSCALE:GREGORIAN
BEGIN:VEVENT
DTSTART:20190928T130000Z
DTEND:20190928T150000Z
X-MICROSOFT-CDO-ALLDAYEVENT:FALSE
SUMMARY:Lions New Ulm Diabetes Walk
DESCRIPTION:The New Ulm Diabetes Walk is a Lions Strides event. We are raising money to find a CURE for Diabetes. All proceeds go to the MN Lions Diabetes Foundation to find a CURE at the University of Minnesota and Camp Sweet Life 2020 Scholarship for a local Type 1 Diabetic.  Sponsored by the New Ulm and Lafayette Area Lions Clubs.
X-ALT-DESC;FMTTYPE=text/html:The New Ulm Diabetes Walk is a Lions Strides event. We are raising money to find a CURE for Diabetes. All proceeds go to the MN Lions Diabetes Foundation to find a CURE at the University of Minnesota and Camp Sweet Life 2020 Scholarship for a local Type 1 Diabetic.&nbsp\; Sponsored by the New Ulm and Lafayette Area Lions Clubs.
LOCATION:New Ulm Civic Center 1212 North Franklin St. New Ulm\, MN 56073
UID:e.18.37791
SEQUENCE:3
DTSTAMP:20260420T082218Z
URL:http://business.newulm.com/events/details/lions-new-ulm-diabetes-walk-09-28-2019-37791
END:VEVENT

END:VCALENDAR
