BEGIN:VCALENDAR
VERSION:2.0
PRODID:-//ChamberMaster//Event Calendar 2.0//EN
METHOD:PUBLISH
X-PUBLISHED-TTL:P3D
REFRESH-INTERVAL:P3D
CALSCALE:GREGORIAN
BEGIN:VEVENT
DTSTART:20190915T003000Z
DTEND:20190915T033000Z
X-MICROSOFT-CDO-ALLDAYEVENT:FALSE
SUMMARY:Jonah Backus & The Conquerors
DESCRIPTION:Jonah Backus (Guitar\, Lead Vocals)\, Luke Sak (Lead Guitar\, Backup Vocals)\, Jeremy Fluegge (Keyboard\, Backup Vocals)\, Caleb Koelpin (Bass Guitar)\, Paul Koepsell (Guitar)\, Gabe Jacobsen (Drums).\n\nThey will be playing a variety of cover songs including: the Rollingstones\, Tom Petty\, Kings of Leon\, the Fray\, Greta Van Fleet\, and many more.
X-ALT-DESC;FMTTYPE=text/html:<p>Jonah Backus (Guitar\, Lead Vocals)\, Luke Sak (Lead Guitar\, Backup Vocals)\, Jeremy Fluegge (Keyboard\, Backup Vocals)\, Caleb Koelpin (Bass Guitar)\, Paul Koepsell (Guitar)\, Gabe Jacobsen (Drums).</p>\n\n<p>They will be playing a variety of cover songs including: the Rollingstones\, Tom Petty\, Kings of Leon\, the Fray\, Greta Van Fleet\, and many more.</p>\n
LOCATION:The Grand Kabaret
UID:e.18.38345
SEQUENCE:3
DTSTAMP:20260422T182339Z
URL:http://business.newulm.com/events/details/jonah-backus-the-conquerors-38345
END:VEVENT

END:VCALENDAR
