BEGIN:VCALENDAR
VERSION:2.0
PRODID:-//ChamberMaster//Event Calendar 2.0//EN
METHOD:PUBLISH
X-PUBLISHED-TTL:P3D
REFRESH-INTERVAL:P3D
CALSCALE:GREGORIAN
BEGIN:VEVENT
DTSTART:20200811T230000Z
DTEND:20200811T233000Z
X-MICROSOFT-CDO-ALLDAYEVENT:FALSE
SUMMARY:How to Apply For a Thrivent Action Team
DESCRIPTION:"Real Talk Tuesdays" are a great way to learn about a variety of topics and get random questions answered you may have relating to finance. We'll share information\, ideas\, and thoughts on a different topic each week. On August 11th\, we will discuss...... "How to apply for a Thrivent Action Team" You DON'T have to participate or stay on the entire time\, feel free to join or leave anytime. We hope you can join us @ 10 am or 6 pm! Please call our office if you have any questions. 507-354-4413 Meeting ID: 879 977 8854 Passcode: 3545304
X-ALT-DESC;FMTTYPE=text/html:&quot\;Real Talk Tuesdays&quot\; are a great way to learn about a variety of topics and get random questions answered you may have relating to finance. We&#39\;ll share information\, ideas\, and thoughts on a different topic each week. On August 11th\, we will discuss...... &quot\;How to apply for a Thrivent Action Team&quot\; You DON&#39\;T have to participate or stay on the entire time\, feel free to join or leave anytime. We hope you can join us @ 10 am or 6 pm! Please call our office if you have any questions. 507-354-4413 Meeting ID: 879 977 8854 Passcode: 3545304
LOCATION:via Zoom
UID:e.18.39776
SEQUENCE:3
DTSTAMP:20260426T000833Z
URL:http://business.newulm.com/events/details/how-to-apply-for-a-thrivent-action-team-08-11-2020-39776
END:VEVENT

END:VCALENDAR
